BEGIN:VCALENDAR
VERSION:2.0
PRODID:-//Tukios.com/
BEGIN:VEVENT
UID:022fdc9c-d2b2-4617-8e93-877f961e58ab@www.houstonfuneralhomems.com
DTSTAMP:20260422T002048Z
DTSTART:20260424T170000Z
DTEND:20260424T180000Z
SUMMARY:Funeral Service
DESCRIPTION:
URL:https://www.houstonfuneralhomems.com/obituaries/mark-doss
LOCATION:Parkway Baptist Church 200 5th Avenue  Houston MS 38851
GEO:33.9121304;-89.0064885
END:VEVENT
END:VCALENDAR