BEGIN:VCALENDAR
VERSION:2.0
PRODID:-//Tukios.com/
BEGIN:VEVENT
UID:e1570f1e-5574-4750-91c4-bbc10e932709@www.houstonfuneralhomems.com
DTSTAMP:20260422T002212Z
DTSTART:20260424T160000Z
DTEND:20260424T170000Z
SUMMARY:Visitation
DESCRIPTION:
URL:https://www.houstonfuneralhomems.com/obituaries/mark-doss
LOCATION:Parkway Baptist Church 200 5th Avenue  Houston MS 38851
GEO:33.9121304;-89.0064885
END:VEVENT
END:VCALENDAR