BEGIN:VCALENDAR
VERSION:2.0
PRODID:-//Tukios.com/
BEGIN:VEVENT
UID:0864b4c6-b0c3-4e39-8eb4-4437de2e38cd@www.houstonfuneralhomems.com
DTSTAMP:20260424T084150Z
DTSTART:20260423T220000Z
DTEND:20260424T000000Z
SUMMARY:Visitation
DESCRIPTION:
URL:https://www.houstonfuneralhomems.com/obituaries/mark-doss
LOCATION:Parkway Baptist Church 200 5th Avenue  Houston MS 38851
GEO:33.9121304;-89.0064885
END:VEVENT
END:VCALENDAR