BEGIN:VCALENDAR
VERSION:2.0
PRODID:-//Tukios.com/
BEGIN:VEVENT
UID:2e645f70-17f7-4efc-be7b-d19abf244340@www.houstonfuneralhomems.com
DTSTAMP:20260423T015224Z
DTSTART:20260427T150000Z
DTEND:20260427T160000Z
SUMMARY:Visitation
DESCRIPTION:
URL:https://www.houstonfuneralhomems.com/obituaries/madie-heair
LOCATION:Parkway Baptist Church 200 5th Ave  Houston MS 38851
GEO:33.9122978;-89.0072488
END:VEVENT
END:VCALENDAR