BEGIN:VCALENDAR
VERSION:2.0
PRODID:-//Tukios.com/
BEGIN:VEVENT
UID:a3cb0a1d-0796-46d7-8ede-3456b669fbf9@www.houstonfuneralhomems.com
DTSTAMP:20260423T015057Z
DTSTART:20260427T160000Z
DTEND:20260427T170000Z
SUMMARY:Funeral Service
DESCRIPTION:
URL:https://www.houstonfuneralhomems.com/obituaries/madie-heair
LOCATION:Parkway Baptist Church 200 5th Avenue  Houston MS 38851
GEO:33.9121304;-89.0064885
END:VEVENT
END:VCALENDAR