BEGIN:VCALENDAR
VERSION:2.0
PRODID:-//Tukios.com/
BEGIN:VEVENT
UID:c614902c-0c5f-47db-8723-1d94c912a03b@www.houstonfuneralhomems.com
DTSTAMP:20260425T020203Z
DTSTART:20260427T200000Z
DTEND:20260427T210000Z
SUMMARY:Funeral Service
DESCRIPTION:
URL:https://www.houstonfuneralhomems.com/obituaries/bettie-thomas
LOCATION:Houston Funeral Home 443 South Jackson Street P.O. Box 689 
	Houston MS 38851
GEO:33.8920756;-89.0006052
END:VEVENT
END:VCALENDAR