BEGIN:VCALENDAR
VERSION:2.0
PRODID:-//Tukios.com/
BEGIN:VEVENT
UID:8221ad5c-d1fc-40f7-9b2d-0d2791dc6f52@www.houstonfuneralhomems.com
DTSTAMP:20260425T020307Z
DTSTART:20260427T190000Z
DTEND:20260427T200000Z
SUMMARY:Visitation
DESCRIPTION:
URL:https://www.houstonfuneralhomems.com/obituaries/bettie-thomas
LOCATION:Houston Funeral Home 443 South Jackson Street P.O. Box 689 
	Houston MS 38851
GEO:33.8920756;-89.0006052
END:VEVENT
END:VCALENDAR